BEGIN:VCALENDAR
VERSION:2.0
PRODID:-//CouldYou? - ECPv6.15.20//NONSGML v1.0//EN
CALSCALE:GREGORIAN
METHOD:PUBLISH
X-WR-CALNAME:CouldYou?
X-ORIGINAL-URL:https://couldyou.org
X-WR-CALDESC:Events for CouldYou?
REFRESH-INTERVAL;VALUE=DURATION:PT1H
X-Robots-Tag:noindex
X-PUBLISHED-TTL:PT1H
BEGIN:VTIMEZONE
TZID:America/Los_Angeles
BEGIN:DAYLIGHT
TZOFFSETFROM:-0800
TZOFFSETTO:-0700
TZNAME:PDT
DTSTART:20250309T100000
END:DAYLIGHT
BEGIN:STANDARD
TZOFFSETFROM:-0700
TZOFFSETTO:-0800
TZNAME:PST
DTSTART:20251102T090000
END:STANDARD
BEGIN:DAYLIGHT
TZOFFSETFROM:-0800
TZOFFSETTO:-0700
TZNAME:PDT
DTSTART:20260308T100000
END:DAYLIGHT
BEGIN:STANDARD
TZOFFSETFROM:-0700
TZOFFSETTO:-0800
TZNAME:PST
DTSTART:20261101T090000
END:STANDARD
BEGIN:DAYLIGHT
TZOFFSETFROM:-0800
TZOFFSETTO:-0700
TZNAME:PDT
DTSTART:20270314T100000
END:DAYLIGHT
BEGIN:STANDARD
TZOFFSETFROM:-0700
TZOFFSETTO:-0800
TZNAME:PST
DTSTART:20271107T090000
END:STANDARD
BEGIN:DAYLIGHT
TZOFFSETFROM:-0800
TZOFFSETTO:-0700
TZNAME:PDT
DTSTART:20280312T100000
END:DAYLIGHT
BEGIN:STANDARD
TZOFFSETFROM:-0700
TZOFFSETTO:-0800
TZNAME:PST
DTSTART:20281105T090000
END:STANDARD
BEGIN:DAYLIGHT
TZOFFSETFROM:-0800
TZOFFSETTO:-0700
TZNAME:PDT
DTSTART:20290311T100000
END:DAYLIGHT
BEGIN:STANDARD
TZOFFSETFROM:-0700
TZOFFSETTO:-0800
TZNAME:PST
DTSTART:20291104T090000
END:STANDARD
END:VTIMEZONE
BEGIN:VEVENT
DTSTART;VALUE=DATE:20260528
DTEND;VALUE=DATE:20260529
DTSTAMP:20260419T095821
CREATED:20240517T224244Z
LAST-MODIFIED:20240517T224307Z
UID:10000328-1779926400-1780012799@couldyou.org
SUMMARY:CouldYou? Cup & Friends celebrate International Menstrual Hygiene Day 28 May - Global Events
DESCRIPTION:https://www.menstrualhygieneday.org \n\nThe movement for a #PeriodFriendlyWorld\n\nMillions of women and girls* around the world are prevented from reaching their full potential. Just because they menstruate. On 28 May\, we unite to change that. Menstrual Hygiene Day brings together non-profits\, governments\, the private sector\, and millions of individuals. Together\, we increase awareness and action towards our common goal: a #PeriodFriendlyWorld. A world where the taboos and stigma surrounding menstruation are history. Where everyone has access to quality menstrual products\, period education and period-friendly toilets. But Menstrual Hygiene Day is more than an awareness day. In the past 10 years\, the movement has grown tremendously. Today\, more and more of us are also working towards a #PeriodFriendlyWorld beyond 28 May. \n#CouldYouCup
URL:https://couldyou.org/event/couldyou-cup-friends-celebrate-international-menstrual-hygiene-day-28-may-global-events/2026-05-28/
CATEGORIES:CouldYou? Events,Global
END:VEVENT
BEGIN:VEVENT
DTSTART;VALUE=DATE:20270528
DTEND;VALUE=DATE:20270529
DTSTAMP:20260419T095821
CREATED:20240517T224244Z
LAST-MODIFIED:20240517T224307Z
UID:10000329-1811462400-1811548799@couldyou.org
SUMMARY:CouldYou? Cup & Friends celebrate International Menstrual Hygiene Day 28 May - Global Events
DESCRIPTION:https://www.menstrualhygieneday.org \n\nThe movement for a #PeriodFriendlyWorld\n\nMillions of women and girls* around the world are prevented from reaching their full potential. Just because they menstruate. On 28 May\, we unite to change that. Menstrual Hygiene Day brings together non-profits\, governments\, the private sector\, and millions of individuals. Together\, we increase awareness and action towards our common goal: a #PeriodFriendlyWorld. A world where the taboos and stigma surrounding menstruation are history. Where everyone has access to quality menstrual products\, period education and period-friendly toilets. But Menstrual Hygiene Day is more than an awareness day. In the past 10 years\, the movement has grown tremendously. Today\, more and more of us are also working towards a #PeriodFriendlyWorld beyond 28 May. \n#CouldYouCup
URL:https://couldyou.org/event/couldyou-cup-friends-celebrate-international-menstrual-hygiene-day-28-may-global-events/2027-05-28/
CATEGORIES:CouldYou? Events,Global
END:VEVENT
BEGIN:VEVENT
DTSTART;VALUE=DATE:20280528
DTEND;VALUE=DATE:20280529
DTSTAMP:20260419T095821
CREATED:20240517T224244Z
LAST-MODIFIED:20240517T224307Z
UID:10000330-1843084800-1843171199@couldyou.org
SUMMARY:CouldYou? Cup & Friends celebrate International Menstrual Hygiene Day 28 May - Global Events
DESCRIPTION:https://www.menstrualhygieneday.org \n\nThe movement for a #PeriodFriendlyWorld\n\nMillions of women and girls* around the world are prevented from reaching their full potential. Just because they menstruate. On 28 May\, we unite to change that. Menstrual Hygiene Day brings together non-profits\, governments\, the private sector\, and millions of individuals. Together\, we increase awareness and action towards our common goal: a #PeriodFriendlyWorld. A world where the taboos and stigma surrounding menstruation are history. Where everyone has access to quality menstrual products\, period education and period-friendly toilets. But Menstrual Hygiene Day is more than an awareness day. In the past 10 years\, the movement has grown tremendously. Today\, more and more of us are also working towards a #PeriodFriendlyWorld beyond 28 May. \n#CouldYouCup
URL:https://couldyou.org/event/couldyou-cup-friends-celebrate-international-menstrual-hygiene-day-28-may-global-events/2028-05-28/
CATEGORIES:CouldYou? Events,Global
END:VEVENT
END:VCALENDAR