BEGIN:VCALENDAR
VERSION:2.0
PRODID:-//CouldYou? - ECPv6.15.20//NONSGML v1.0//EN
CALSCALE:GREGORIAN
METHOD:PUBLISH
X-WR-CALNAME:CouldYou?
X-ORIGINAL-URL:https://couldyou.org
X-WR-CALDESC:Events for CouldYou?
REFRESH-INTERVAL;VALUE=DURATION:PT1H
X-Robots-Tag:noindex
X-PUBLISHED-TTL:PT1H
BEGIN:VTIMEZONE
TZID:America/Los_Angeles
BEGIN:DAYLIGHT
TZOFFSETFROM:-0800
TZOFFSETTO:-0700
TZNAME:PDT
DTSTART:20270314T100000
END:DAYLIGHT
BEGIN:STANDARD
TZOFFSETFROM:-0700
TZOFFSETTO:-0800
TZNAME:PST
DTSTART:20271107T090000
END:STANDARD
BEGIN:DAYLIGHT
TZOFFSETFROM:-0800
TZOFFSETTO:-0700
TZNAME:PDT
DTSTART:20280312T100000
END:DAYLIGHT
BEGIN:STANDARD
TZOFFSETFROM:-0700
TZOFFSETTO:-0800
TZNAME:PST
DTSTART:20281105T090000
END:STANDARD
BEGIN:DAYLIGHT
TZOFFSETFROM:-0800
TZOFFSETTO:-0700
TZNAME:PDT
DTSTART:20290311T100000
END:DAYLIGHT
BEGIN:STANDARD
TZOFFSETFROM:-0700
TZOFFSETTO:-0800
TZNAME:PST
DTSTART:20291104T090000
END:STANDARD
END:VTIMEZONE
BEGIN:VEVENT
DTSTART;VALUE=DATE:20280204
DTEND;VALUE=DATE:20280205
DTSTAMP:20260419T151702
CREATED:20231103T053049Z
LAST-MODIFIED:20231103T053049Z
UID:10000149-1833235200-1833321599@couldyou.org
SUMMARY:United Nations International Day of Human Fraternity
DESCRIPTION:
URL:https://couldyou.org/event/united-nations-international-day-of-human-fraternity/2028-02-04/
CATEGORIES:UN Days
END:VEVENT
BEGIN:VEVENT
DTSTART;VALUE=DATE:20280206
DTEND;VALUE=DATE:20280207
DTSTAMP:20260419T151702
CREATED:20231103T053331Z
LAST-MODIFIED:20231103T053331Z
UID:10000159-1833408000-1833494399@couldyou.org
SUMMARY:United Nations International Day of Zero Tolerance for Female Genital Mutilation
DESCRIPTION:
URL:https://couldyou.org/event/united-nations-international-day-of-zero-tolerance-for-female-genital-mutilation/2028-02-06/
CATEGORIES:UN Days
END:VEVENT
BEGIN:VEVENT
DTSTART;VALUE=DATE:20280210
DTEND;VALUE=DATE:20280211
DTSTAMP:20260419T151702
CREATED:20231103T053903Z
LAST-MODIFIED:20231103T053903Z
UID:10000169-1833753600-1833839999@couldyou.org
SUMMARY:United Nations World Pulses Day
DESCRIPTION:
URL:https://couldyou.org/event/united-nations-world-pulses-day/2028-02-10/
CATEGORIES:UN Days
END:VEVENT
BEGIN:VEVENT
DTSTART;VALUE=DATE:20280211
DTEND;VALUE=DATE:20280212
DTSTAMP:20260419T151702
CREATED:20231103T054017Z
LAST-MODIFIED:20231103T054017Z
UID:10000179-1833840000-1833926399@couldyou.org
SUMMARY:United Nations International Day of Women and Girls in Science
DESCRIPTION:
URL:https://couldyou.org/event/united-nations-international-day-of-women-and-girls-in-science/2028-02-11/
CATEGORIES:UN Days
END:VEVENT
BEGIN:VEVENT
DTSTART;VALUE=DATE:20280213
DTEND;VALUE=DATE:20280214
DTSTAMP:20260419T151702
CREATED:20231103T054155Z
LAST-MODIFIED:20231103T054155Z
UID:10000189-1834012800-1834099199@couldyou.org
SUMMARY:United Nations World Radio Day
DESCRIPTION:
URL:https://couldyou.org/event/united-nations-world-radio-day/2028-02-13/
CATEGORIES:UN Days
END:VEVENT
BEGIN:VEVENT
DTSTART;VALUE=DATE:20280220
DTEND;VALUE=DATE:20280221
DTSTAMP:20260419T151702
CREATED:20231103T054321Z
LAST-MODIFIED:20231103T054321Z
UID:10000199-1834617600-1834703999@couldyou.org
SUMMARY:United Nations World Day of Social Justice
DESCRIPTION:
URL:https://couldyou.org/event/united-nations-world-day-of-social-justice/2028-02-20/
CATEGORIES:UN Days
END:VEVENT
BEGIN:VEVENT
DTSTART;VALUE=DATE:20280221
DTEND;VALUE=DATE:20280222
DTSTAMP:20260419T151702
CREATED:20231103T054438Z
LAST-MODIFIED:20231103T054438Z
UID:10000209-1834704000-1834790399@couldyou.org
SUMMARY:United Nations International Mother Language Day
DESCRIPTION:
URL:https://couldyou.org/event/united-nations-international-mother-language-day/2028-02-21/
CATEGORIES:UN Days
END:VEVENT
BEGIN:VEVENT
DTSTART;VALUE=DATE:20280301
DTEND;VALUE=DATE:20280302
DTSTAMP:20260419T151702
CREATED:20231103T054551Z
LAST-MODIFIED:20231103T054551Z
UID:10000219-1835481600-1835567999@couldyou.org
SUMMARY:United Nations Zero Discrimination Day
DESCRIPTION:
URL:https://couldyou.org/event/united-nations-zero-discrimination-day/2028-03-01/
CATEGORIES:UN Days
END:VEVENT
BEGIN:VEVENT
DTSTART;VALUE=DATE:20280303
DTEND;VALUE=DATE:20280304
DTSTAMP:20260419T151702
CREATED:20231103T054832Z
LAST-MODIFIED:20231103T054832Z
UID:10000229-1835654400-1835740799@couldyou.org
SUMMARY:United Nations World Wildlife Day
DESCRIPTION:
URL:https://couldyou.org/event/united-nations-world-wildlife-day/2028-03-03/
CATEGORIES:UN Days
END:VEVENT
BEGIN:VEVENT
DTSTART;VALUE=DATE:20280308
DTEND;VALUE=DATE:20280309
DTSTAMP:20260419T151702
CREATED:20231103T055831Z
LAST-MODIFIED:20231103T055831Z
UID:10000260-1836086400-1836172799@couldyou.org
SUMMARY:United Nations International Women's Day
DESCRIPTION:
URL:https://couldyou.org/event/united-nations-international-womens-day/2028-03-08/
CATEGORIES:UN Days
END:VEVENT
BEGIN:VEVENT
DTSTART;VALUE=DATE:20281102
DTEND;VALUE=DATE:20281103
DTSTAMP:20260419T151702
CREATED:20231103T055817Z
LAST-MODIFIED:20231103T055817Z
UID:10000255-1856736000-1856822399@couldyou.org
SUMMARY:United Nations International Day to End Impunity for Crimes Against Journalists
DESCRIPTION:
URL:https://couldyou.org/event/united-nations-international-day-to-end-impunity-for-crimes-against-journalists/2028-11-02/
CATEGORIES:UN Days
END:VEVENT
END:VCALENDAR