BEGIN:VCALENDAR
VERSION:2.0
PRODID:-//CouldYou? - ECPv6.15.20//NONSGML v1.0//EN
CALSCALE:GREGORIAN
METHOD:PUBLISH
X-ORIGINAL-URL:https://couldyou.org
X-WR-CALDESC:Events for CouldYou?
REFRESH-INTERVAL;VALUE=DURATION:PT1H
X-Robots-Tag:noindex
X-PUBLISHED-TTL:PT1H
BEGIN:VTIMEZONE
TZID:America/Los_Angeles
BEGIN:DAYLIGHT
TZOFFSETFROM:-0800
TZOFFSETTO:-0700
TZNAME:PDT
DTSTART:20240310T100000
END:DAYLIGHT
BEGIN:STANDARD
TZOFFSETFROM:-0700
TZOFFSETTO:-0800
TZNAME:PST
DTSTART:20241103T090000
END:STANDARD
BEGIN:DAYLIGHT
TZOFFSETFROM:-0800
TZOFFSETTO:-0700
TZNAME:PDT
DTSTART:20250309T100000
END:DAYLIGHT
BEGIN:STANDARD
TZOFFSETFROM:-0700
TZOFFSETTO:-0800
TZNAME:PST
DTSTART:20251102T090000
END:STANDARD
BEGIN:DAYLIGHT
TZOFFSETFROM:-0800
TZOFFSETTO:-0700
TZNAME:PDT
DTSTART:20260308T100000
END:DAYLIGHT
BEGIN:STANDARD
TZOFFSETFROM:-0700
TZOFFSETTO:-0800
TZNAME:PST
DTSTART:20261101T090000
END:STANDARD
END:VTIMEZONE
BEGIN:VTIMEZONE
TZID:Africa/Accra
BEGIN:STANDARD
TZOFFSETFROM:+0000
TZOFFSETTO:+0000
TZNAME:GMT
DTSTART:20240101T000000
END:STANDARD
END:VTIMEZONE
BEGIN:VEVENT
DTSTART;VALUE=DATE:20250104
DTEND;VALUE=DATE:20250105
DTSTAMP:20260420T054258
CREATED:20231103T052402Z
LAST-MODIFIED:20231103T052402Z
UID:10000116-1735948800-1736035199@couldyou.org
SUMMARY:United Nations World Braille Day
DESCRIPTION:
URL:https://couldyou.org/event/united-nations-world-braille-day/2025-01-04/
CATEGORIES:UN Days
END:VEVENT
BEGIN:VEVENT
DTSTART;VALUE=DATE:20250107
DTEND;VALUE=DATE:20250108
DTSTAMP:20260420T054258
CREATED:20231103T050736Z
LAST-MODIFIED:20231103T051741Z
UID:10000080-1736208000-1736294399@couldyou.org
SUMMARY:Ghana Constitution Day
DESCRIPTION:
URL:https://couldyou.org/event/ghana-constitution-day/2025-01-07/
CATEGORIES:Public Holiday
END:VEVENT
BEGIN:VEVENT
DTSTART;VALUE=DATE:20250124
DTEND;VALUE=DATE:20250125
DTSTAMP:20260420T054258
CREATED:20231103T053506Z
LAST-MODIFIED:20231103T053535Z
UID:10000126-1737676800-1737763199@couldyou.org
SUMMARY:United Nations International Day of Education
DESCRIPTION:
URL:https://couldyou.org/event/united-nations-international-day-of-education/2025-01-24/
CATEGORIES:UN Days
END:VEVENT
BEGIN:VEVENT
DTSTART;VALUE=DATE:20250127
DTEND;VALUE=DATE:20250128
DTSTAMP:20260420T054258
CREATED:20231103T052904Z
LAST-MODIFIED:20231103T052904Z
UID:10000136-1737936000-1738022399@couldyou.org
SUMMARY:United Nations International Day of Commemoration in Memory of the Victims of the Holocaust
DESCRIPTION:
URL:https://couldyou.org/event/united-nations-international-day-of-commemoration-in-memory-of-the-victims-of-the-holocaust/2025-01-27/
CATEGORIES:UN Days
END:VEVENT
END:VCALENDAR