BEGIN:VCALENDAR
VERSION:2.0
PRODID:-//CouldYou? - ECPv6.15.20//NONSGML v1.0//EN
CALSCALE:GREGORIAN
METHOD:PUBLISH
X-WR-CALNAME:CouldYou?
X-ORIGINAL-URL:https://couldyou.org
X-WR-CALDESC:Events for CouldYou?
REFRESH-INTERVAL;VALUE=DURATION:PT1H
X-Robots-Tag:noindex
X-PUBLISHED-TTL:PT1H
BEGIN:VTIMEZONE
TZID:Africa/Accra
BEGIN:STANDARD
TZOFFSETFROM:+0000
TZOFFSETTO:+0000
TZNAME:GMT
DTSTART:20240101T000000
END:STANDARD
END:VTIMEZONE
BEGIN:VTIMEZONE
TZID:America/Los_Angeles
BEGIN:DAYLIGHT
TZOFFSETFROM:-0800
TZOFFSETTO:-0700
TZNAME:PDT
DTSTART:20240310T100000
END:DAYLIGHT
BEGIN:STANDARD
TZOFFSETFROM:-0700
TZOFFSETTO:-0800
TZNAME:PST
DTSTART:20241103T090000
END:STANDARD
BEGIN:DAYLIGHT
TZOFFSETFROM:-0800
TZOFFSETTO:-0700
TZNAME:PDT
DTSTART:20250309T100000
END:DAYLIGHT
BEGIN:STANDARD
TZOFFSETFROM:-0700
TZOFFSETTO:-0800
TZNAME:PST
DTSTART:20251102T090000
END:STANDARD
BEGIN:DAYLIGHT
TZOFFSETFROM:-0800
TZOFFSETTO:-0700
TZNAME:PDT
DTSTART:20260308T100000
END:DAYLIGHT
BEGIN:STANDARD
TZOFFSETFROM:-0700
TZOFFSETTO:-0800
TZNAME:PST
DTSTART:20261101T090000
END:STANDARD
END:VTIMEZONE
BEGIN:VEVENT
DTSTART;VALUE=DATE:20250501
DTEND;VALUE=DATE:20250502
DTSTAMP:20260419T222253
CREATED:20231103T051033Z
LAST-MODIFIED:20231103T051607Z
UID:10000106-1746057600-1746143999@couldyou.org
SUMMARY:May Day (Global)
DESCRIPTION:
URL:https://couldyou.org/event/may-day-global/2025-05-01/
LOCATION:Worldwide\, NY\, United States
CATEGORIES:Global,Public Holiday
END:VEVENT
BEGIN:VEVENT
DTSTART;VALUE=DATE:20250528
DTEND;VALUE=DATE:20250529
DTSTAMP:20260419T222253
CREATED:20240517T224244Z
LAST-MODIFIED:20240517T224307Z
UID:10000327-1748390400-1748476799@couldyou.org
SUMMARY:CouldYou? Cup & Friends celebrate International Menstrual Hygiene Day 28 May - Global Events
DESCRIPTION:https://www.menstrualhygieneday.org \n\nThe movement for a #PeriodFriendlyWorld\n\nMillions of women and girls* around the world are prevented from reaching their full potential. Just because they menstruate. On 28 May\, we unite to change that. Menstrual Hygiene Day brings together non-profits\, governments\, the private sector\, and millions of individuals. Together\, we increase awareness and action towards our common goal: a #PeriodFriendlyWorld. A world where the taboos and stigma surrounding menstruation are history. Where everyone has access to quality menstrual products\, period education and period-friendly toilets. But Menstrual Hygiene Day is more than an awareness day. In the past 10 years\, the movement has grown tremendously. Today\, more and more of us are also working towards a #PeriodFriendlyWorld beyond 28 May. \n#CouldYouCup
URL:https://couldyou.org/event/couldyou-cup-friends-celebrate-international-menstrual-hygiene-day-28-may-global-events/2025-05-28/
CATEGORIES:CouldYou? Events,Global
END:VEVENT
END:VCALENDAR