BEGIN:VCALENDAR
VERSION:2.0
PRODID:-//CouldYou? - ECPv6.15.20//NONSGML v1.0//EN
CALSCALE:GREGORIAN
METHOD:PUBLISH
X-WR-CALNAME:CouldYou?
X-ORIGINAL-URL:https://couldyou.org
X-WR-CALDESC:Events for CouldYou?
REFRESH-INTERVAL;VALUE=DURATION:PT1H
X-Robots-Tag:noindex
X-PUBLISHED-TTL:PT1H
BEGIN:VTIMEZONE
TZID:America/Los_Angeles
BEGIN:DAYLIGHT
TZOFFSETFROM:-0800
TZOFFSETTO:-0700
TZNAME:PDT
DTSTART:20240310T100000
END:DAYLIGHT
BEGIN:STANDARD
TZOFFSETFROM:-0700
TZOFFSETTO:-0800
TZNAME:PST
DTSTART:20241103T090000
END:STANDARD
BEGIN:DAYLIGHT
TZOFFSETFROM:-0800
TZOFFSETTO:-0700
TZNAME:PDT
DTSTART:20250309T100000
END:DAYLIGHT
BEGIN:STANDARD
TZOFFSETFROM:-0700
TZOFFSETTO:-0800
TZNAME:PST
DTSTART:20251102T090000
END:STANDARD
BEGIN:DAYLIGHT
TZOFFSETFROM:-0800
TZOFFSETTO:-0700
TZNAME:PDT
DTSTART:20260308T100000
END:DAYLIGHT
BEGIN:STANDARD
TZOFFSETFROM:-0700
TZOFFSETTO:-0800
TZNAME:PST
DTSTART:20261101T090000
END:STANDARD
END:VTIMEZONE
BEGIN:VEVENT
DTSTART;VALUE=DATE:20251102
DTEND;VALUE=DATE:20251103
DTSTAMP:20260419T113848
CREATED:20231103T055817Z
LAST-MODIFIED:20231103T055817Z
UID:10000252-1762041600-1762124399@couldyou.org
SUMMARY:United Nations International Day to End Impunity for Crimes Against Journalists
DESCRIPTION:
URL:https://couldyou.org/event/united-nations-international-day-to-end-impunity-for-crimes-against-journalists/2025-11-02/
CATEGORIES:UN Days
END:VEVENT
BEGIN:VEVENT
DTSTART;VALUE=DATE:20251105
DTEND;VALUE=DATE:20251108
DTSTAMP:20260419T113848
CREATED:20231103T060047Z
LAST-MODIFIED:20231103T060047Z
UID:10000269-1762300800-1762477199@couldyou.org
SUMMARY:United Nations World Tsunami Awareness Day
DESCRIPTION:
URL:https://couldyou.org/event/united-nations-world-tsunami-awareness-day/2025-11-05/
CATEGORIES:UN Days
END:VEVENT
BEGIN:VEVENT
DTSTART;VALUE=DATE:20251106
DTEND;VALUE=DATE:20251107
DTSTAMP:20260419T113848
CREATED:20231103T060203Z
LAST-MODIFIED:20231103T060203Z
UID:10000280-1762387200-1762473599@couldyou.org
SUMMARY:United Nations International Day for Preventing the Exploitation of the Environment in War and Armed Conflict
DESCRIPTION:
URL:https://couldyou.org/event/united-nations-international-day-for-preventing-the-exploitation-of-the-environment-in-war-and-armed-conflict/2025-11-06/
CATEGORIES:UN Days
END:VEVENT
BEGIN:VEVENT
DTSTART;VALUE=DATE:20251110
DTEND;VALUE=DATE:20251111
DTSTAMP:20260419T113848
CREATED:20231103T060301Z
LAST-MODIFIED:20231103T060301Z
UID:10000291-1762732800-1762819199@couldyou.org
SUMMARY:United Nations World Science Day for Peace and Development
DESCRIPTION:
URL:https://couldyou.org/event/united-nations-world-science-day-for-peace-and-development/2025-11-10/
CATEGORIES:UN Days
END:VEVENT
BEGIN:VEVENT
DTSTART;VALUE=DATE:20251114
DTEND;VALUE=DATE:20251115
DTSTAMP:20260419T113848
CREATED:20231103T060341Z
LAST-MODIFIED:20231103T060341Z
UID:10000302-1763078400-1763164799@couldyou.org
SUMMARY:United Nations World Diabetes Day
DESCRIPTION:
URL:https://couldyou.org/event/united-nations-world-diabetes-day/2025-11-14/
CATEGORIES:UN Days
END:VEVENT
BEGIN:VEVENT
DTSTART;VALUE=DATE:20251116
DTEND;VALUE=DATE:20251117
DTSTAMP:20260419T113848
CREATED:20231103T060437Z
LAST-MODIFIED:20231103T060437Z
UID:10000313-1763251200-1763337599@couldyou.org
SUMMARY:United Nations International Day for Tolerance
DESCRIPTION:
URL:https://couldyou.org/event/united-nations-international-day-for-tolerance/2025-11-16/
CATEGORIES:UN Days
END:VEVENT
BEGIN:VEVENT
DTSTART;VALUE=DATE:20251116
DTEND;VALUE=DATE:20251117
DTSTAMP:20260419T113848
CREATED:20231103T060745Z
LAST-MODIFIED:20231103T060745Z
UID:10000318-1763251200-1763337599@couldyou.org
SUMMARY:United Nations World Philosophy Day
DESCRIPTION:
URL:https://couldyou.org/event/united-nations-world-philosophy-day/2025-11-16/
CATEGORIES:UN Days
END:VEVENT
END:VCALENDAR