BEGIN:VCALENDAR
VERSION:2.0
PRODID:-//CouldYou? - ECPv6.15.20//NONSGML v1.0//EN
CALSCALE:GREGORIAN
METHOD:PUBLISH
X-WR-CALNAME:CouldYou?
X-ORIGINAL-URL:https://couldyou.org
X-WR-CALDESC:Events for CouldYou?
REFRESH-INTERVAL;VALUE=DURATION:PT1H
X-Robots-Tag:noindex
X-PUBLISHED-TTL:PT1H
BEGIN:VTIMEZONE
TZID:America/Los_Angeles
BEGIN:DAYLIGHT
TZOFFSETFROM:-0800
TZOFFSETTO:-0700
TZNAME:PDT
DTSTART:20250309T100000
END:DAYLIGHT
BEGIN:STANDARD
TZOFFSETFROM:-0700
TZOFFSETTO:-0800
TZNAME:PST
DTSTART:20251102T090000
END:STANDARD
BEGIN:DAYLIGHT
TZOFFSETFROM:-0800
TZOFFSETTO:-0700
TZNAME:PDT
DTSTART:20260308T100000
END:DAYLIGHT
BEGIN:STANDARD
TZOFFSETFROM:-0700
TZOFFSETTO:-0800
TZNAME:PST
DTSTART:20261101T090000
END:STANDARD
BEGIN:DAYLIGHT
TZOFFSETFROM:-0800
TZOFFSETTO:-0700
TZNAME:PDT
DTSTART:20270314T100000
END:DAYLIGHT
BEGIN:STANDARD
TZOFFSETFROM:-0700
TZOFFSETTO:-0800
TZNAME:PST
DTSTART:20271107T090000
END:STANDARD
END:VTIMEZONE
BEGIN:VTIMEZONE
TZID:Africa/Accra
BEGIN:STANDARD
TZOFFSETFROM:+0000
TZOFFSETTO:+0000
TZNAME:GMT
DTSTART:20250101T000000
END:STANDARD
END:VTIMEZONE
BEGIN:VEVENT
DTSTART;VALUE=DATE:20260104
DTEND;VALUE=DATE:20260105
DTSTAMP:20260419T081248
CREATED:20231103T052402Z
LAST-MODIFIED:20231103T052402Z
UID:10000117-1767484800-1767571199@couldyou.org
SUMMARY:United Nations World Braille Day
DESCRIPTION:
URL:https://couldyou.org/event/united-nations-world-braille-day/2026-01-04/
CATEGORIES:UN Days
END:VEVENT
BEGIN:VEVENT
DTSTART;VALUE=DATE:20260107
DTEND;VALUE=DATE:20260108
DTSTAMP:20260419T081248
CREATED:20231103T050736Z
LAST-MODIFIED:20231103T051741Z
UID:10000081-1767744000-1767830399@couldyou.org
SUMMARY:Ghana Constitution Day
DESCRIPTION:
URL:https://couldyou.org/event/ghana-constitution-day/2026-01-07/
CATEGORIES:Public Holiday
END:VEVENT
BEGIN:VEVENT
DTSTART;VALUE=DATE:20260124
DTEND;VALUE=DATE:20260125
DTSTAMP:20260419T081248
CREATED:20231103T053506Z
LAST-MODIFIED:20231103T053535Z
UID:10000127-1769212800-1769299199@couldyou.org
SUMMARY:United Nations International Day of Education
DESCRIPTION:
URL:https://couldyou.org/event/united-nations-international-day-of-education/2026-01-24/
CATEGORIES:UN Days
END:VEVENT
BEGIN:VEVENT
DTSTART;VALUE=DATE:20260127
DTEND;VALUE=DATE:20260128
DTSTAMP:20260419T081248
CREATED:20231103T052904Z
LAST-MODIFIED:20231103T052904Z
UID:10000137-1769472000-1769558399@couldyou.org
SUMMARY:United Nations International Day of Commemoration in Memory of the Victims of the Holocaust
DESCRIPTION:
URL:https://couldyou.org/event/united-nations-international-day-of-commemoration-in-memory-of-the-victims-of-the-holocaust/2026-01-27/
CATEGORIES:UN Days
END:VEVENT
END:VCALENDAR