BEGIN:VCALENDAR
VERSION:2.0
PRODID:-//CouldYou? - ECPv6.15.20//NONSGML v1.0//EN
CALSCALE:GREGORIAN
METHOD:PUBLISH
X-WR-CALNAME:CouldYou?
X-ORIGINAL-URL:https://couldyou.org
X-WR-CALDESC:Events for CouldYou?
REFRESH-INTERVAL;VALUE=DURATION:PT1H
X-Robots-Tag:noindex
X-PUBLISHED-TTL:PT1H
BEGIN:VTIMEZONE
TZID:America/Los_Angeles
BEGIN:DAYLIGHT
TZOFFSETFROM:-0800
TZOFFSETTO:-0700
TZNAME:PDT
DTSTART:20250309T100000
END:DAYLIGHT
BEGIN:STANDARD
TZOFFSETFROM:-0700
TZOFFSETTO:-0800
TZNAME:PST
DTSTART:20251102T090000
END:STANDARD
BEGIN:DAYLIGHT
TZOFFSETFROM:-0800
TZOFFSETTO:-0700
TZNAME:PDT
DTSTART:20260308T100000
END:DAYLIGHT
BEGIN:STANDARD
TZOFFSETFROM:-0700
TZOFFSETTO:-0800
TZNAME:PST
DTSTART:20261101T090000
END:STANDARD
BEGIN:DAYLIGHT
TZOFFSETFROM:-0800
TZOFFSETTO:-0700
TZNAME:PDT
DTSTART:20270314T100000
END:DAYLIGHT
BEGIN:STANDARD
TZOFFSETFROM:-0700
TZOFFSETTO:-0800
TZNAME:PST
DTSTART:20271107T090000
END:STANDARD
END:VTIMEZONE
BEGIN:VEVENT
DTSTART;VALUE=DATE:20260204
DTEND;VALUE=DATE:20260205
DTSTAMP:20260419T064319
CREATED:20231103T053049Z
LAST-MODIFIED:20231103T053049Z
UID:10000147-1770163200-1770249599@couldyou.org
SUMMARY:United Nations International Day of Human Fraternity
DESCRIPTION:
URL:https://couldyou.org/event/united-nations-international-day-of-human-fraternity/2026-02-04/
CATEGORIES:UN Days
END:VEVENT
BEGIN:VEVENT
DTSTART;VALUE=DATE:20260206
DTEND;VALUE=DATE:20260207
DTSTAMP:20260419T064319
CREATED:20231103T053331Z
LAST-MODIFIED:20231103T053331Z
UID:10000157-1770336000-1770422399@couldyou.org
SUMMARY:United Nations International Day of Zero Tolerance for Female Genital Mutilation
DESCRIPTION:
URL:https://couldyou.org/event/united-nations-international-day-of-zero-tolerance-for-female-genital-mutilation/2026-02-06/
CATEGORIES:UN Days
END:VEVENT
BEGIN:VEVENT
DTSTART;VALUE=DATE:20260210
DTEND;VALUE=DATE:20260211
DTSTAMP:20260419T064319
CREATED:20231103T053903Z
LAST-MODIFIED:20231103T053903Z
UID:10000167-1770681600-1770767999@couldyou.org
SUMMARY:United Nations World Pulses Day
DESCRIPTION:
URL:https://couldyou.org/event/united-nations-world-pulses-day/2026-02-10/
CATEGORIES:UN Days
END:VEVENT
BEGIN:VEVENT
DTSTART;VALUE=DATE:20260211
DTEND;VALUE=DATE:20260212
DTSTAMP:20260419T064319
CREATED:20231103T054017Z
LAST-MODIFIED:20231103T054017Z
UID:10000177-1770768000-1770854399@couldyou.org
SUMMARY:United Nations International Day of Women and Girls in Science
DESCRIPTION:
URL:https://couldyou.org/event/united-nations-international-day-of-women-and-girls-in-science/2026-02-11/
CATEGORIES:UN Days
END:VEVENT
BEGIN:VEVENT
DTSTART;VALUE=DATE:20260213
DTEND;VALUE=DATE:20260214
DTSTAMP:20260419T064319
CREATED:20231103T054155Z
LAST-MODIFIED:20231103T054155Z
UID:10000187-1770940800-1771027199@couldyou.org
SUMMARY:United Nations World Radio Day
DESCRIPTION:
URL:https://couldyou.org/event/united-nations-world-radio-day/2026-02-13/
CATEGORIES:UN Days
END:VEVENT
BEGIN:VEVENT
DTSTART;VALUE=DATE:20260220
DTEND;VALUE=DATE:20260221
DTSTAMP:20260419T064319
CREATED:20231103T054321Z
LAST-MODIFIED:20231103T054321Z
UID:10000197-1771545600-1771631999@couldyou.org
SUMMARY:United Nations World Day of Social Justice
DESCRIPTION:
URL:https://couldyou.org/event/united-nations-world-day-of-social-justice/2026-02-20/
CATEGORIES:UN Days
END:VEVENT
BEGIN:VEVENT
DTSTART;VALUE=DATE:20260221
DTEND;VALUE=DATE:20260222
DTSTAMP:20260419T064319
CREATED:20231103T054438Z
LAST-MODIFIED:20231103T054438Z
UID:10000207-1771632000-1771718399@couldyou.org
SUMMARY:United Nations International Mother Language Day
DESCRIPTION:
URL:https://couldyou.org/event/united-nations-international-mother-language-day/2026-02-21/
CATEGORIES:UN Days
END:VEVENT
END:VCALENDAR