BEGIN:VCALENDAR
VERSION:2.0
PRODID:-//CouldYou? - ECPv6.15.20//NONSGML v1.0//EN
CALSCALE:GREGORIAN
METHOD:PUBLISH
X-ORIGINAL-URL:https://couldyou.org
X-WR-CALDESC:Events for CouldYou?
REFRESH-INTERVAL;VALUE=DURATION:PT1H
X-Robots-Tag:noindex
X-PUBLISHED-TTL:PT1H
BEGIN:VTIMEZONE
TZID:America/Los_Angeles
BEGIN:DAYLIGHT
TZOFFSETFROM:-0800
TZOFFSETTO:-0700
TZNAME:PDT
DTSTART:20250309T100000
END:DAYLIGHT
BEGIN:STANDARD
TZOFFSETFROM:-0700
TZOFFSETTO:-0800
TZNAME:PST
DTSTART:20251102T090000
END:STANDARD
BEGIN:DAYLIGHT
TZOFFSETFROM:-0800
TZOFFSETTO:-0700
TZNAME:PDT
DTSTART:20260308T100000
END:DAYLIGHT
BEGIN:STANDARD
TZOFFSETFROM:-0700
TZOFFSETTO:-0800
TZNAME:PST
DTSTART:20261101T090000
END:STANDARD
BEGIN:DAYLIGHT
TZOFFSETFROM:-0800
TZOFFSETTO:-0700
TZNAME:PDT
DTSTART:20270314T100000
END:DAYLIGHT
BEGIN:STANDARD
TZOFFSETFROM:-0700
TZOFFSETTO:-0800
TZNAME:PST
DTSTART:20271107T090000
END:STANDARD
END:VTIMEZONE
BEGIN:VTIMEZONE
TZID:Africa/Accra
BEGIN:STANDARD
TZOFFSETFROM:+0000
TZOFFSETTO:+0000
TZNAME:GMT
DTSTART:20250101T000000
END:STANDARD
END:VTIMEZONE
BEGIN:VEVENT
DTSTART;VALUE=DATE:20260301
DTEND;VALUE=DATE:20260302
DTSTAMP:20260419T051325
CREATED:20231103T054551Z
LAST-MODIFIED:20231103T054551Z
UID:10000217-1772323200-1772409599@couldyou.org
SUMMARY:United Nations Zero Discrimination Day
DESCRIPTION:
URL:https://couldyou.org/event/united-nations-zero-discrimination-day/2026-03-01/
CATEGORIES:UN Days
END:VEVENT
BEGIN:VEVENT
DTSTART;VALUE=DATE:20260303
DTEND;VALUE=DATE:20260304
DTSTAMP:20260419T051325
CREATED:20231103T051830Z
LAST-MODIFIED:20231103T051841Z
UID:10000095-1772496000-1772582399@couldyou.org
SUMMARY:World Teen Mental Wellness Day
DESCRIPTION:
URL:https://couldyou.org/event/world-teen-mental-wellness-day/2026-03-03/
CATEGORIES:Global
END:VEVENT
BEGIN:VEVENT
DTSTART;VALUE=DATE:20260303
DTEND;VALUE=DATE:20260304
DTSTAMP:20260419T051325
CREATED:20231103T054832Z
LAST-MODIFIED:20231103T054832Z
UID:10000227-1772496000-1772582399@couldyou.org
SUMMARY:United Nations World Wildlife Day
DESCRIPTION:
URL:https://couldyou.org/event/united-nations-world-wildlife-day/2026-03-03/
CATEGORIES:UN Days
END:VEVENT
BEGIN:VEVENT
DTSTART;VALUE=DATE:20260306
DTEND;VALUE=DATE:20260307
DTSTAMP:20260419T051325
CREATED:20231103T051118Z
LAST-MODIFIED:20231103T051505Z
UID:10000112-1772755200-1772841599@couldyou.org
SUMMARY:Ghana Independence Day
DESCRIPTION:
URL:https://couldyou.org/event/ghana-independence-day-2/2026-03-06/
CATEGORIES:Public Holiday
END:VEVENT
BEGIN:VEVENT
DTSTART;VALUE=DATE:20260308
DTEND;VALUE=DATE:20260310
DTSTAMP:20260419T051325
CREATED:20231103T055831Z
LAST-MODIFIED:20231103T055831Z
UID:10000258-1772928000-1773017999@couldyou.org
SUMMARY:United Nations International Women's Day
DESCRIPTION:
URL:https://couldyou.org/event/united-nations-international-womens-day/2026-03-08/
CATEGORIES:UN Days
END:VEVENT
END:VCALENDAR