BEGIN:VCALENDAR
VERSION:2.0
PRODID:-//CouldYou? - ECPv6.15.20//NONSGML v1.0//EN
CALSCALE:GREGORIAN
METHOD:PUBLISH
X-ORIGINAL-URL:https://couldyou.org
X-WR-CALDESC:Events for CouldYou?
REFRESH-INTERVAL;VALUE=DURATION:PT1H
X-Robots-Tag:noindex
X-PUBLISHED-TTL:PT1H
BEGIN:VTIMEZONE
TZID:America/Los_Angeles
BEGIN:DAYLIGHT
TZOFFSETFROM:-0800
TZOFFSETTO:-0700
TZNAME:PDT
DTSTART:20250309T100000
END:DAYLIGHT
BEGIN:STANDARD
TZOFFSETFROM:-0700
TZOFFSETTO:-0800
TZNAME:PST
DTSTART:20251102T090000
END:STANDARD
BEGIN:DAYLIGHT
TZOFFSETFROM:-0800
TZOFFSETTO:-0700
TZNAME:PDT
DTSTART:20260308T100000
END:DAYLIGHT
BEGIN:STANDARD
TZOFFSETFROM:-0700
TZOFFSETTO:-0800
TZNAME:PST
DTSTART:20261101T090000
END:STANDARD
BEGIN:DAYLIGHT
TZOFFSETFROM:-0800
TZOFFSETTO:-0700
TZNAME:PDT
DTSTART:20270314T100000
END:DAYLIGHT
BEGIN:STANDARD
TZOFFSETFROM:-0700
TZOFFSETTO:-0800
TZNAME:PST
DTSTART:20271107T090000
END:STANDARD
END:VTIMEZONE
BEGIN:VEVENT
DTSTART;VALUE=DATE:20261102
DTEND;VALUE=DATE:20261103
DTSTAMP:20260419T074514
CREATED:20231103T055817Z
LAST-MODIFIED:20231103T055817Z
UID:10000253-1793577600-1793663999@couldyou.org
SUMMARY:United Nations International Day to End Impunity for Crimes Against Journalists
DESCRIPTION:
URL:https://couldyou.org/event/united-nations-international-day-to-end-impunity-for-crimes-against-journalists/2026-11-02/
CATEGORIES:UN Days
END:VEVENT
BEGIN:VEVENT
DTSTART;VALUE=DATE:20261105
DTEND;VALUE=DATE:20261108
DTSTAMP:20260419T074514
CREATED:20231103T060047Z
LAST-MODIFIED:20231103T060047Z
UID:10000270-1793836800-1794013199@couldyou.org
SUMMARY:United Nations World Tsunami Awareness Day
DESCRIPTION:
URL:https://couldyou.org/event/united-nations-world-tsunami-awareness-day/2026-11-05/
CATEGORIES:UN Days
END:VEVENT
BEGIN:VEVENT
DTSTART;VALUE=DATE:20261106
DTEND;VALUE=DATE:20261107
DTSTAMP:20260419T074514
CREATED:20231103T060203Z
LAST-MODIFIED:20231103T060203Z
UID:10000281-1793923200-1794009599@couldyou.org
SUMMARY:United Nations International Day for Preventing the Exploitation of the Environment in War and Armed Conflict
DESCRIPTION:
URL:https://couldyou.org/event/united-nations-international-day-for-preventing-the-exploitation-of-the-environment-in-war-and-armed-conflict/2026-11-06/
CATEGORIES:UN Days
END:VEVENT
BEGIN:VEVENT
DTSTART;VALUE=DATE:20261110
DTEND;VALUE=DATE:20261111
DTSTAMP:20260419T074514
CREATED:20231103T060301Z
LAST-MODIFIED:20231103T060301Z
UID:10000292-1794268800-1794355199@couldyou.org
SUMMARY:United Nations World Science Day for Peace and Development
DESCRIPTION:
URL:https://couldyou.org/event/united-nations-world-science-day-for-peace-and-development/2026-11-10/
CATEGORIES:UN Days
END:VEVENT
BEGIN:VEVENT
DTSTART;VALUE=DATE:20261114
DTEND;VALUE=DATE:20261115
DTSTAMP:20260419T074514
CREATED:20231103T060341Z
LAST-MODIFIED:20231103T060341Z
UID:10000303-1794614400-1794700799@couldyou.org
SUMMARY:United Nations World Diabetes Day
DESCRIPTION:
URL:https://couldyou.org/event/united-nations-world-diabetes-day/2026-11-14/
CATEGORIES:UN Days
END:VEVENT
BEGIN:VEVENT
DTSTART;VALUE=DATE:20261116
DTEND;VALUE=DATE:20261117
DTSTAMP:20260419T074514
CREATED:20231103T060437Z
LAST-MODIFIED:20231103T060437Z
UID:10000314-1794787200-1794873599@couldyou.org
SUMMARY:United Nations International Day for Tolerance
DESCRIPTION:
URL:https://couldyou.org/event/united-nations-international-day-for-tolerance/2026-11-16/
CATEGORIES:UN Days
END:VEVENT
BEGIN:VEVENT
DTSTART;VALUE=DATE:20261116
DTEND;VALUE=DATE:20261117
DTSTAMP:20260419T074514
CREATED:20231103T060745Z
LAST-MODIFIED:20231103T060745Z
UID:10000319-1794787200-1794873599@couldyou.org
SUMMARY:United Nations World Philosophy Day
DESCRIPTION:
URL:https://couldyou.org/event/united-nations-world-philosophy-day/2026-11-16/
CATEGORIES:UN Days
END:VEVENT
END:VCALENDAR