BEGIN:VCALENDAR
VERSION:2.0
PRODID:-//CouldYou? - ECPv6.15.20//NONSGML v1.0//EN
CALSCALE:GREGORIAN
METHOD:PUBLISH
X-WR-CALNAME:CouldYou?
X-ORIGINAL-URL:https://couldyou.org
X-WR-CALDESC:Events for CouldYou?
REFRESH-INTERVAL;VALUE=DURATION:PT1H
X-Robots-Tag:noindex
X-PUBLISHED-TTL:PT1H
BEGIN:VTIMEZONE
TZID:America/Los_Angeles
BEGIN:DAYLIGHT
TZOFFSETFROM:-0800
TZOFFSETTO:-0700
TZNAME:PDT
DTSTART:20260308T100000
END:DAYLIGHT
BEGIN:STANDARD
TZOFFSETFROM:-0700
TZOFFSETTO:-0800
TZNAME:PST
DTSTART:20261101T090000
END:STANDARD
BEGIN:DAYLIGHT
TZOFFSETFROM:-0800
TZOFFSETTO:-0700
TZNAME:PDT
DTSTART:20270314T100000
END:DAYLIGHT
BEGIN:STANDARD
TZOFFSETFROM:-0700
TZOFFSETTO:-0800
TZNAME:PST
DTSTART:20271107T090000
END:STANDARD
BEGIN:DAYLIGHT
TZOFFSETFROM:-0800
TZOFFSETTO:-0700
TZNAME:PDT
DTSTART:20280312T100000
END:DAYLIGHT
BEGIN:STANDARD
TZOFFSETFROM:-0700
TZOFFSETTO:-0800
TZNAME:PST
DTSTART:20281105T090000
END:STANDARD
END:VTIMEZONE
BEGIN:VTIMEZONE
TZID:Africa/Accra
BEGIN:STANDARD
TZOFFSETFROM:+0000
TZOFFSETTO:+0000
TZNAME:GMT
DTSTART:20260101T000000
END:STANDARD
END:VTIMEZONE
BEGIN:VEVENT
DTSTART;VALUE=DATE:20270104
DTEND;VALUE=DATE:20270105
DTSTAMP:20260419T113848
CREATED:20231103T052402Z
LAST-MODIFIED:20231103T052402Z
UID:10000118-1799020800-1799107199@couldyou.org
SUMMARY:United Nations World Braille Day
DESCRIPTION:
URL:https://couldyou.org/event/united-nations-world-braille-day/2027-01-04/
CATEGORIES:UN Days
END:VEVENT
BEGIN:VEVENT
DTSTART;VALUE=DATE:20270107
DTEND;VALUE=DATE:20270108
DTSTAMP:20260419T113848
CREATED:20231103T050736Z
LAST-MODIFIED:20231103T051741Z
UID:10000082-1799280000-1799366399@couldyou.org
SUMMARY:Ghana Constitution Day
DESCRIPTION:
URL:https://couldyou.org/event/ghana-constitution-day/2027-01-07/
CATEGORIES:Public Holiday
END:VEVENT
BEGIN:VEVENT
DTSTART;VALUE=DATE:20270124
DTEND;VALUE=DATE:20270125
DTSTAMP:20260419T113848
CREATED:20231103T053506Z
LAST-MODIFIED:20231103T053535Z
UID:10000128-1800748800-1800835199@couldyou.org
SUMMARY:United Nations International Day of Education
DESCRIPTION:
URL:https://couldyou.org/event/united-nations-international-day-of-education/2027-01-24/
CATEGORIES:UN Days
END:VEVENT
BEGIN:VEVENT
DTSTART;VALUE=DATE:20270127
DTEND;VALUE=DATE:20270128
DTSTAMP:20260419T113848
CREATED:20231103T052904Z
LAST-MODIFIED:20231103T052904Z
UID:10000138-1801008000-1801094399@couldyou.org
SUMMARY:United Nations International Day of Commemoration in Memory of the Victims of the Holocaust
DESCRIPTION:
URL:https://couldyou.org/event/united-nations-international-day-of-commemoration-in-memory-of-the-victims-of-the-holocaust/2027-01-27/
CATEGORIES:UN Days
END:VEVENT
END:VCALENDAR