BEGIN:VCALENDAR
VERSION:2.0
PRODID:-//CouldYou? - ECPv6.15.20//NONSGML v1.0//EN
CALSCALE:GREGORIAN
METHOD:PUBLISH
X-WR-CALNAME:CouldYou?
X-ORIGINAL-URL:https://couldyou.org
X-WR-CALDESC:Events for CouldYou?
REFRESH-INTERVAL;VALUE=DURATION:PT1H
X-Robots-Tag:noindex
X-PUBLISHED-TTL:PT1H
BEGIN:VTIMEZONE
TZID:America/Los_Angeles
BEGIN:DAYLIGHT
TZOFFSETFROM:-0800
TZOFFSETTO:-0700
TZNAME:PDT
DTSTART:20260308T100000
END:DAYLIGHT
BEGIN:STANDARD
TZOFFSETFROM:-0700
TZOFFSETTO:-0800
TZNAME:PST
DTSTART:20261101T090000
END:STANDARD
BEGIN:DAYLIGHT
TZOFFSETFROM:-0800
TZOFFSETTO:-0700
TZNAME:PDT
DTSTART:20270314T100000
END:DAYLIGHT
BEGIN:STANDARD
TZOFFSETFROM:-0700
TZOFFSETTO:-0800
TZNAME:PST
DTSTART:20271107T090000
END:STANDARD
BEGIN:DAYLIGHT
TZOFFSETFROM:-0800
TZOFFSETTO:-0700
TZNAME:PDT
DTSTART:20280312T100000
END:DAYLIGHT
BEGIN:STANDARD
TZOFFSETFROM:-0700
TZOFFSETTO:-0800
TZNAME:PST
DTSTART:20281105T090000
END:STANDARD
END:VTIMEZONE
BEGIN:VEVENT
DTSTART;VALUE=DATE:20271102
DTEND;VALUE=DATE:20271103
DTSTAMP:20260419T220114
CREATED:20231103T055817Z
LAST-MODIFIED:20231103T055817Z
UID:10000254-1825113600-1825199999@couldyou.org
SUMMARY:United Nations International Day to End Impunity for Crimes Against Journalists
DESCRIPTION:
URL:https://couldyou.org/event/united-nations-international-day-to-end-impunity-for-crimes-against-journalists/2027-11-02/
CATEGORIES:UN Days
END:VEVENT
BEGIN:VEVENT
DTSTART;VALUE=DATE:20271105
DTEND;VALUE=DATE:20271108
DTSTAMP:20260419T220114
CREATED:20231103T060047Z
LAST-MODIFIED:20231103T060047Z
UID:10000271-1825372800-1825549199@couldyou.org
SUMMARY:United Nations World Tsunami Awareness Day
DESCRIPTION:
URL:https://couldyou.org/event/united-nations-world-tsunami-awareness-day/2027-11-05/
CATEGORIES:UN Days
END:VEVENT
BEGIN:VEVENT
DTSTART;VALUE=DATE:20271106
DTEND;VALUE=DATE:20271107
DTSTAMP:20260419T220114
CREATED:20231103T060203Z
LAST-MODIFIED:20231103T060203Z
UID:10000282-1825459200-1825545599@couldyou.org
SUMMARY:United Nations International Day for Preventing the Exploitation of the Environment in War and Armed Conflict
DESCRIPTION:
URL:https://couldyou.org/event/united-nations-international-day-for-preventing-the-exploitation-of-the-environment-in-war-and-armed-conflict/2027-11-06/
CATEGORIES:UN Days
END:VEVENT
BEGIN:VEVENT
DTSTART;VALUE=DATE:20271110
DTEND;VALUE=DATE:20271111
DTSTAMP:20260419T220114
CREATED:20231103T060301Z
LAST-MODIFIED:20231103T060301Z
UID:10000293-1825804800-1825891199@couldyou.org
SUMMARY:United Nations World Science Day for Peace and Development
DESCRIPTION:
URL:https://couldyou.org/event/united-nations-world-science-day-for-peace-and-development/2027-11-10/
CATEGORIES:UN Days
END:VEVENT
BEGIN:VEVENT
DTSTART;VALUE=DATE:20271114
DTEND;VALUE=DATE:20271115
DTSTAMP:20260419T220114
CREATED:20231103T060341Z
LAST-MODIFIED:20231103T060341Z
UID:10000304-1826150400-1826236799@couldyou.org
SUMMARY:United Nations World Diabetes Day
DESCRIPTION:
URL:https://couldyou.org/event/united-nations-world-diabetes-day/2027-11-14/
CATEGORIES:UN Days
END:VEVENT
BEGIN:VEVENT
DTSTART;VALUE=DATE:20271116
DTEND;VALUE=DATE:20271117
DTSTAMP:20260419T220114
CREATED:20231103T060437Z
LAST-MODIFIED:20231103T060437Z
UID:10000315-1826323200-1826409599@couldyou.org
SUMMARY:United Nations International Day for Tolerance
DESCRIPTION:
URL:https://couldyou.org/event/united-nations-international-day-for-tolerance/2027-11-16/
CATEGORIES:UN Days
END:VEVENT
BEGIN:VEVENT
DTSTART;VALUE=DATE:20271116
DTEND;VALUE=DATE:20271117
DTSTAMP:20260419T220114
CREATED:20231103T060745Z
LAST-MODIFIED:20231103T060745Z
UID:10000320-1826323200-1826409599@couldyou.org
SUMMARY:United Nations World Philosophy Day
DESCRIPTION:
URL:https://couldyou.org/event/united-nations-world-philosophy-day/2027-11-16/
CATEGORIES:UN Days
END:VEVENT
END:VCALENDAR