BEGIN:VCALENDAR
VERSION:2.0
PRODID:-//CouldYou? - ECPv6.15.20//NONSGML v1.0//EN
CALSCALE:GREGORIAN
METHOD:PUBLISH
X-WR-CALNAME:CouldYou?
X-ORIGINAL-URL:https://couldyou.org
X-WR-CALDESC:Events for CouldYou?
REFRESH-INTERVAL;VALUE=DURATION:PT1H
X-Robots-Tag:noindex
X-PUBLISHED-TTL:PT1H
BEGIN:VTIMEZONE
TZID:Africa/Johannesburg
BEGIN:STANDARD
TZOFFSETFROM:+0200
TZOFFSETTO:+0200
TZNAME:SAST
DTSTART:20220101T000000
END:STANDARD
END:VTIMEZONE
BEGIN:VEVENT
DTSTART;TZID=Africa/Johannesburg:20230223T183000
DTEND;TZID=Africa/Johannesburg:20230223T200000
DTSTAMP:20260419T165710
CREATED:20230222T005008Z
LAST-MODIFIED:20230222T005100Z
UID:10000090-1677177000-1677182400@couldyou.org
SUMMARY:CouldYou? Dinner at The Godfather Waterfall Resturant
DESCRIPTION:CouldYou? hosts a dinner in conjunction with our South African partners with special appearance from award winning Brian Tembe and Gigi Lamayne (CouldYou? Ambassadors\, South Africa).
URL:https://couldyou.org/event/couldyou-dinner-at-the-godfather-waterfall-resturant/
LOCATION:The Godfather Waterfall Restaurant\, Midrand\, South Africa
CATEGORIES:CouldYou? Events
END:VEVENT
END:VCALENDAR